BEGIN:VCALENDAR
VERSION:2.0
PRODID:-//www.ketchikanarts.org//NONSGML kigkonsult.se iCalcreator 2.30.10/
 /
CALSCALE:GREGORIAN
METHOD:PUBLISH
UID:682f4aeb-1e93-45a4-9edd-968bbf4c3c85
X-WR-CALDESC:Doors open at 7pm\, stories start at 7:30pm. $3 at the door!
X-WR-RELCALID:d5555c9341feeb1603ffefea7c2a2d06
X-WR-TIMEZONE:America/Anchorage
BEGIN:VTIMEZONE
TZID:America/Anchorage
BEGIN:STANDARD
TZNAME:AKST
DTSTART:20251102T020000
TZOFFSETFROM:-0800
TZOFFSETTO:-0900
RDATE:20261101T020000
END:STANDARD
BEGIN:DAYLIGHT
TZNAME:AKDT
DTSTART:20260308T020000
TZOFFSETFROM:-0900
TZOFFSETTO:-0800
RDATE:20270314T020000
END:DAYLIGHT
END:VTIMEZONE
BEGIN:VEVENT
UID:f90423b7-77cf-4e89-8084-9f1ba766b357
DTSTAMP:20260424T103811Z
DESCRIPTION:Doors open at 7pm\, stories start at 7:30pm. $3 at the door!
DTSTART;TZID=America/Anchorage:20260310T190000
DTEND;TZID=America/Anchorage:20260310T210000
LOCATION:Alaska Legends Cider and Wine
SUMMARY:Story SLAM - Theme...'CHAOS'
END:VEVENT
END:VCALENDAR
