BEGIN:VCALENDAR
VERSION:2.0
PRODID:-//www.ketchikanarts.org//NONSGML kigkonsult.se iCalcreator 2.30.10/
 /
CALSCALE:GREGORIAN
METHOD:PUBLISH
UID:88afbb9b-89d4-4e31-b243-ccc88596ee9d
X-WR-CALDESC:
X-WR-RELCALID:4c4d823959cb0384bcbd64f40e54b05c
X-WR-TIMEZONE:America/Anchorage
BEGIN:VTIMEZONE
TZID:America/Anchorage
BEGIN:STANDARD
TZNAME:AKST
DTSTART:20251102T020000
TZOFFSETFROM:-0800
TZOFFSETTO:-0900
RDATE:20261101T020000
END:STANDARD
BEGIN:DAYLIGHT
TZNAME:AKDT
DTSTART:20250309T020000
TZOFFSETFROM:-0900
TZOFFSETTO:-0800
RDATE:20260308T020000
RDATE:20270314T020000
END:DAYLIGHT
END:VTIMEZONE
BEGIN:VEVENT
UID:2a59855f-e3a4-4aec-838c-9b9a34109ea1
DTSTAMP:20260424T103634Z
DESCRIPTION:
DTSTART;TZID=America/Anchorage:20260308T143000
DTEND;TZID=America/Anchorage:20260308T160000
LOCATION:Kayhi Auditorium
SUMMARY:Blithe Spirit - Presented by First City Players
END:VEVENT
END:VCALENDAR
