BEGIN:VCALENDAR
VERSION:2.0
PRODID:-//www.ketchikanarts.org//NONSGML kigkonsult.se iCalcreator 2.30.10/
 /
CALSCALE:GREGORIAN
METHOD:PUBLISH
UID:63503fa0-35f4-478a-8889-8dd9e82af997
X-WR-CALDESC:
X-WR-RELCALID:a93239dfd8f2dd2283021f660d0f9919
X-WR-TIMEZONE:America/Anchorage
BEGIN:VTIMEZONE
TZID:America/Anchorage
BEGIN:STANDARD
TZNAME:AKST
DTSTART:20251102T020000
TZOFFSETFROM:-0800
TZOFFSETTO:-0900
RDATE:20261101T020000
END:STANDARD
BEGIN:DAYLIGHT
TZNAME:AKDT
DTSTART:20250309T020000
TZOFFSETFROM:-0900
TZOFFSETTO:-0800
RDATE:20260308T020000
RDATE:20270314T020000
END:DAYLIGHT
END:VTIMEZONE
BEGIN:VEVENT
UID:ca63dc7b-de21-43bc-9753-054173d0051e
DTSTAMP:20260424T105234Z
DESCRIPTION:
DTSTART;TZID=America/Anchorage:20260305T020000
DTEND;TZID=America/Anchorage:20260305T020001
LOCATION:
SUMMARY:51st Blueberry Arts Festival Logo Design Deadline
END:VEVENT
END:VCALENDAR
