BEGIN:VCALENDAR
VERSION:2.0
PRODID:-//www.ketchikanarts.org//NONSGML kigkonsult.se iCalcreator 2.30.10/
 /
CALSCALE:GREGORIAN
METHOD:PUBLISH
UID:2979f581-ab77-4f47-ba4f-f347f8930afc
X-WR-CALDESC:Cruisin' Deep Time - listen to the many adventures of Ray and 
 Kirk exploring deep time.
X-WR-RELCALID:3d3a1aeba6b15ad68b7c5198ef08f630
X-WR-TIMEZONE:America/Anchorage
BEGIN:VTIMEZONE
TZID:America/Anchorage
BEGIN:STANDARD
TZNAME:AKST
DTSTART:20251102T020000
TZOFFSETFROM:-0800
TZOFFSETTO:-0900
RDATE:20261101T020000
END:STANDARD
BEGIN:DAYLIGHT
TZNAME:AKDT
DTSTART:20250309T020000
TZOFFSETFROM:-0900
TZOFFSETTO:-0800
RDATE:20260308T020000
RDATE:20270314T020000
END:DAYLIGHT
END:VTIMEZONE
BEGIN:VEVENT
UID:e4ad8920-e880-452f-a58c-e26ad090e109
DTSTAMP:20260420T103604Z
DESCRIPTION:Cruisin' Deep Time - listen to the many adventures of Ray and K
 irk exploring deep time.
DTSTART;TZID=America/Anchorage:20260130T143000
DTEND;TZID=America/Anchorage:20260130T153000
LOCATION:Southeast Alaska Discovery Center
SUMMARY:Save the Date! - Kirk Johnson and Ray Troll at the SE AK Discovery 
 Center
END:VEVENT
END:VCALENDAR
