BEGIN:VCALENDAR
VERSION:2.0
PRODID:-//www.ketchikanarts.org//NONSGML kigkonsult.se iCalcreator 2.30.10/
 /
CALSCALE:GREGORIAN
METHOD:PUBLISH
UID:e9524582-b381-4b13-b257-3ba4fb129ef9
X-WR-CALDESC:
X-WR-RELCALID:de581f8a725f66141652bbff61ffc961
X-WR-TIMEZONE:America/Anchorage
BEGIN:VTIMEZONE
TZID:America/Anchorage
BEGIN:STANDARD
TZNAME:AKST
DTSTART:20251102T020000
TZOFFSETFROM:-0800
TZOFFSETTO:-0900
RDATE:20261101T020000
END:STANDARD
BEGIN:DAYLIGHT
TZNAME:AKDT
DTSTART:20250309T020000
TZOFFSETFROM:-0900
TZOFFSETTO:-0800
RDATE:20260308T020000
RDATE:20270314T020000
END:DAYLIGHT
END:VTIMEZONE
BEGIN:VEVENT
UID:c62ca5ee-d3d4-4c21-a8bc-2b219ca9a151
DTSTAMP:20260420T085538Z
DESCRIPTION:
DTSTART;TZID=America/Anchorage:20260129T200000
DTEND;TZID=America/Anchorage:20260129T230000
LOCATION:Totem Bar
SUMMARY:Open Mic at the Totem Bar
END:VEVENT
END:VCALENDAR
