BEGIN:VCALENDAR
VERSION:2.0
PRODID:-//www.ketchikanarts.org//NONSGML kigkonsult.se iCalcreator 2.30.10/
 /
CALSCALE:GREGORIAN
METHOD:PUBLISH
UID:c4e0f491-756e-446b-9aac-c792516f3851
X-WR-CALDESC:We strive to promote cooperation and an exchange of ideas amon
 g those interested in or engaged in quilt making\; to instruct members in 
 methods and techniques and to inspire personal achievement\; and to encour
 age and maintain high standards of design and technique in quilt making.\n
 \nAll levels of quilters are invited and encouraged to attend!
X-WR-RELCALID:0c0d8e5c631f9647e622e1a679a5bb4e
X-WR-TIMEZONE:America/Anchorage
BEGIN:VTIMEZONE
TZID:America/Anchorage
BEGIN:STANDARD
TZNAME:AKST
DTSTART:20251102T020000
TZOFFSETFROM:-0800
TZOFFSETTO:-0900
RDATE:20261101T020000
END:STANDARD
BEGIN:DAYLIGHT
TZNAME:AKDT
DTSTART:20250309T020000
TZOFFSETFROM:-0900
TZOFFSETTO:-0800
RDATE:20260308T020000
RDATE:20270314T020000
END:DAYLIGHT
END:VTIMEZONE
BEGIN:VEVENT
UID:19fd0c9d-68bb-4f10-858d-6fa1953b7d6e
DTSTAMP:20260420T085640Z
DESCRIPTION:We strive to promote cooperation and an exchange of ideas among
  those interested in or engaged in quilt making\; to instruct members in m
 ethods and techniques and to inspire personal achievement\; and to encoura
 ge and maintain high standards of design and technique in quilt making.\n
 \nAll levels of quilters are invited and encouraged to attend!
DTSTART;TZID=America/Anchorage:20260127T183000
DTEND;TZID=America/Anchorage:20260127T200000
LOCATION:Holy Name Church Parish Hall
SUMMARY:Rainy Day Quilters Meeting!
END:VEVENT
END:VCALENDAR
