BEGIN:VCALENDAR
VERSION:2.0
PRODID:-//www.ketchikanarts.org//NONSGML kigkonsult.se iCalcreator 2.30.10/
 /
CALSCALE:GREGORIAN
METHOD:PUBLISH
UID:5aa04d8a-586e-49a4-9c26-18d2f845e299
X-WR-CALDESC:First City Toastmasters welcomes all who want to improve their
  confidence in speaking to a group of 2 or 200. Perfect for mastering arti
 st talks!\nEvery Tuesday!\n6:45 - 7:45 am. In-person on the lower level of
  the Presbyterian Church or by ZOOM.
X-WR-RELCALID:eaf6e31d3898c10ad3ea5a24b51afe01
X-WR-TIMEZONE:America/Anchorage
BEGIN:VTIMEZONE
TZID:America/Anchorage
BEGIN:STANDARD
TZNAME:AKST
DTSTART:20251102T020000
TZOFFSETFROM:-0800
TZOFFSETTO:-0900
RDATE:20261101T020000
END:STANDARD
BEGIN:DAYLIGHT
TZNAME:AKDT
DTSTART:20250309T020000
TZOFFSETFROM:-0900
TZOFFSETTO:-0800
RDATE:20260308T020000
RDATE:20270314T020000
END:DAYLIGHT
END:VTIMEZONE
BEGIN:VEVENT
UID:d543f6af-c3ca-4542-b057-8381625f394a
DTSTAMP:20260420T102943Z
DESCRIPTION:First City Toastmasters welcomes all who want to improve their 
 confidence in speaking to a group of 2 or 200. Perfect for mastering artis
 t talks!\nEvery Tuesday!\n6:45 - 7:45 am. In-person on the lower level of 
 the Presbyterian Church or by ZOOM.
DTSTART;TZID=America/Anchorage:20260127T064500
DTEND;TZID=America/Anchorage:20260127T074500
LOCATION:
SUMMARY:First City Toastmasters Club
END:VEVENT
END:VCALENDAR
