BEGIN:VCALENDAR
VERSION:2.0
PRODID:-//www.ketchikanarts.org//NONSGML kigkonsult.se iCalcreator 2.30.10/
 /
CALSCALE:GREGORIAN
METHOD:PUBLISH
UID:b2cfa302-61d6-4cee-a0f1-42f6372b2d49
X-WR-CALDESC:Join Savannah LeCornu for an open studio!
X-WR-RELCALID:f02e20d733814f3e9d82eb6ff5ede3ff
X-WR-TIMEZONE:America/Anchorage
BEGIN:VTIMEZONE
TZID:America/Anchorage
BEGIN:STANDARD
TZNAME:AKST
DTSTART:20251102T020000
TZOFFSETFROM:-0800
TZOFFSETTO:-0900
RDATE:20261101T020000
END:STANDARD
BEGIN:DAYLIGHT
TZNAME:AKDT
DTSTART:20250309T020000
TZOFFSETFROM:-0900
TZOFFSETTO:-0800
RDATE:20260308T020000
RDATE:20270314T020000
END:DAYLIGHT
END:VTIMEZONE
BEGIN:VEVENT
UID:1c16ca83-057f-480c-90bc-fe535b462ffd
DTSTAMP:20260422T091554Z
DESCRIPTION:Join Savannah LeCornu for an open studio!
DTSTART;TZID=America/Anchorage:20260121T120000
DTEND;TZID=America/Anchorage:20260121T160000
LOCATION:125 Main Street
SUMMARY:Open Studio - [INSERT ART]
END:VEVENT
END:VCALENDAR
