BEGIN:VCALENDAR
VERSION:2.0
PRODID:-//www.ketchikanarts.org//NONSGML kigkonsult.se iCalcreator 2.30.10/
 /
CALSCALE:GREGORIAN
METHOD:PUBLISH
UID:5bd950b3-5291-40d9-ad33-17a2501e7c3f
X-WR-CALDESC:Doors open at 7pm\, stories start at 7:30pm. $3 at the door!
X-WR-RELCALID:2fc14c99af252b57c2eb30db7d71c9c1
X-WR-TIMEZONE:America/Anchorage
BEGIN:VTIMEZONE
TZID:America/Anchorage
BEGIN:STANDARD
TZNAME:AKST
DTSTART:20251102T020000
TZOFFSETFROM:-0800
TZOFFSETTO:-0900
RDATE:20261101T020000
END:STANDARD
BEGIN:DAYLIGHT
TZNAME:AKDT
DTSTART:20250309T020000
TZOFFSETFROM:-0900
TZOFFSETTO:-0800
RDATE:20260308T020000
RDATE:20270314T020000
END:DAYLIGHT
END:VTIMEZONE
BEGIN:VEVENT
UID:75e2b259-526f-4e8b-9577-c1aaa62e59bf
DTSTAMP:20260420T085234Z
DESCRIPTION:Doors open at 7pm\, stories start at 7:30pm. $3 at the door!
DTSTART;TZID=America/Anchorage:20260113T190000
DTEND;TZID=America/Anchorage:20260113T210000
LOCATION:Alaska Legends Cider and Wine
SUMMARY:Story SLAM - Theme...'Freudian Slip'
END:VEVENT
END:VCALENDAR
