BEGIN:VCALENDAR
VERSION:2.0
PRODID:-//www.ketchikanarts.org//NONSGML kigkonsult.se iCalcreator 2.30.10/
 /
CALSCALE:GREGORIAN
METHOD:PUBLISH
UID:90287858-651d-4e76-8cec-4af2e03201cc
X-WR-CALDESC:A fabulous night will be had by all! This event runs 6-9pm (co
 ntrary to the poster)
X-WR-RELCALID:554754a521851d6b7bad66eecf2d5eaf
X-WR-TIMEZONE:America/Anchorage
BEGIN:VTIMEZONE
TZID:America/Anchorage
BEGIN:STANDARD
TZNAME:AKST
DTSTART:20251102T020000
TZOFFSETFROM:-0800
TZOFFSETTO:-0900
RDATE:20261101T020000
END:STANDARD
BEGIN:DAYLIGHT
TZNAME:AKDT
DTSTART:20250309T020000
TZOFFSETFROM:-0900
TZOFFSETTO:-0800
RDATE:20260308T020000
RDATE:20270314T020000
END:DAYLIGHT
END:VTIMEZONE
BEGIN:VEVENT
UID:22fe0c2c-9375-4ba6-b94b-4a5e29562fbb
DTSTAMP:20260420T084900Z
DESCRIPTION:A fabulous night will be had by all! This event runs 6-9pm (con
 trary to the poster)
DTSTART;TZID=America/Anchorage:20260111T180000
DTEND;TZID=America/Anchorage:20260111T210000
LOCATION:Creek Street Cabaret
SUMMARY:Open Mic!
END:VEVENT
END:VCALENDAR
