BEGIN:VCALENDAR
VERSION:2.0
PRODID:-//www.ketchikanarts.org//NONSGML kigkonsult.se iCalcreator 2.30.10/
 /
CALSCALE:GREGORIAN
METHOD:PUBLISH
UID:289c1cdd-bc9f-47f0-993d-ead6436c068a
X-WR-CALDESC:A solo exhibition by artist and illustrator\, Janine Gibbons e
 xploring the power of illustration as a vessel for ancestral memory.\n\nAr
 tist Presentation: Saturday\, January 10\, 11am\nJanine will take us deepe
 r into the creation of her work and share her inspiration.\n\nOpenings at 
 the Main Street Gallery are always on the first Friday of the Month! The M
 ain Street Gallery is a program of the Ketchikan Area Arts and Humanities 
 Council. We show new exhibits each month - join us at a gallery opening!
X-WR-RELCALID:0b42409b5f8bec4036f5b8d00b0c9341
X-WR-TIMEZONE:America/Anchorage
BEGIN:VTIMEZONE
TZID:America/Anchorage
BEGIN:STANDARD
TZNAME:AKST
DTSTART:20251102T020000
TZOFFSETFROM:-0800
TZOFFSETTO:-0900
RDATE:20261101T020000
END:STANDARD
BEGIN:DAYLIGHT
TZNAME:AKDT
DTSTART:20250309T020000
TZOFFSETFROM:-0900
TZOFFSETTO:-0800
RDATE:20260308T020000
RDATE:20270314T020000
END:DAYLIGHT
END:VTIMEZONE
BEGIN:VEVENT
UID:03d398bc-462e-41a3-8c1b-27eb4d29696d
DTSTAMP:20260420T090100Z
DESCRIPTION:A solo exhibition by artist and illustrator\, Janine Gibbons ex
 ploring the power of illustration as a vessel for ancestral memory.\n\nArt
 ist Presentation: Saturday\, January 10\, 11am\nJanine will take us deeper
  into the creation of her work and share her inspiration.\n\nOpenings at t
 he Main Street Gallery are always on the first Friday of the Month! The Ma
 in Street Gallery is a program of the Ketchikan Area Arts and Humanities C
 ouncil. We show new exhibits each month - join us at a gallery opening!
DTSTART;TZID=America/Anchorage:20260109T170000
DTEND;TZID=America/Anchorage:20260109T190000
LOCATION:Main Street Gallery - 330 Main Street
SUMMARY:OPENING a solo exhibit by Janine Gibbons at the Main Street Gallery
END:VEVENT
END:VCALENDAR
