BEGIN:VCALENDAR
VERSION:2.0
PRODID:-//www.ketchikanarts.org//NONSGML kigkonsult.se iCalcreator 2.30.10/
 /
CALSCALE:GREGORIAN
METHOD:PUBLISH
UID:f3005368-afb3-4ac1-a477-a749ec20ef20
X-WR-CALDESC:A fabulous night will be had by all! This event runs 6-9pm (co
 ntrary to the poster)
X-WR-RELCALID:e56bb6d907cb0570176a5cfc2dcfb627
X-WR-TIMEZONE:America/Anchorage
BEGIN:VTIMEZONE
TZID:America/Anchorage
BEGIN:STANDARD
TZNAME:AKST
DTSTART:20251102T020000
TZOFFSETFROM:-0800
TZOFFSETTO:-0900
RDATE:20261101T020000
END:STANDARD
BEGIN:DAYLIGHT
TZNAME:AKDT
DTSTART:20250309T020000
TZOFFSETFROM:-0900
TZOFFSETTO:-0800
RDATE:20260308T020000
RDATE:20270314T020000
END:DAYLIGHT
END:VTIMEZONE
BEGIN:VEVENT
UID:78018ad2-1f68-4c21-8355-58c9560e77db
DTSTAMP:20260420T084825Z
DESCRIPTION:A fabulous night will be had by all! This event runs 6-9pm (con
 trary to the poster)
DTSTART;TZID=America/Anchorage:20260104T180000
DTEND;TZID=America/Anchorage:20260104T210000
LOCATION:Creek Street Cabaret
SUMMARY:Open Mic!
END:VEVENT
END:VCALENDAR
