BEGIN:VCALENDAR
VERSION:2.0
PRODID:-//www.ketchikanarts.org//NONSGML kigkonsult.se iCalcreator 2.30.10/
 /
CALSCALE:GREGORIAN
METHOD:PUBLISH
UID:bd7f8733-67c5-4f4f-9b1b-c651543b2e19
X-WR-CALDESC:A fabulous night will be had by all! This event runs 6-9pm (co
 ntrary to the poster)
X-WR-RELCALID:569732fba378e0824d95c2c71ab6adb0
X-WR-TIMEZONE:America/Anchorage
BEGIN:VTIMEZONE
TZID:America/Anchorage
BEGIN:STANDARD
TZNAME:AKST
DTSTART:20251102T020000
TZOFFSETFROM:-0800
TZOFFSETTO:-0900
RDATE:20261101T020000
END:STANDARD
BEGIN:DAYLIGHT
TZNAME:AKDT
DTSTART:20250309T020000
TZOFFSETFROM:-0900
TZOFFSETTO:-0800
RDATE:20260308T020000
RDATE:20270314T020000
END:DAYLIGHT
END:VTIMEZONE
BEGIN:VEVENT
UID:3037dfb7-d9fe-4336-bb12-c1c331e03369
DTSTAMP:20260422T104549Z
DESCRIPTION:A fabulous night will be had by all! This event runs 6-9pm (con
 trary to the poster)
DTSTART;TZID=America/Anchorage:20251228T180000
DTEND;TZID=America/Anchorage:20251228T210000
LOCATION:Creek Street Cabaret
SUMMARY:Open Mic!
END:VEVENT
END:VCALENDAR
