BEGIN:VCALENDAR
VERSION:2.0
PRODID:-//www.ketchikanarts.org//NONSGML kigkonsult.se iCalcreator 2.30.10/
 /
CALSCALE:GREGORIAN
METHOD:PUBLISH
UID:c2135f07-288c-4fbc-b2bd-2f03318855e1
X-WR-CALDESC:A fabulous night will be had by all! This event runs 6-9pm (co
 ntrary to the poster)
X-WR-RELCALID:29f6175cdb3c12cef08e8d5cf78f6716
X-WR-TIMEZONE:America/Anchorage
BEGIN:VTIMEZONE
TZID:America/Anchorage
BEGIN:STANDARD
TZNAME:AKST
DTSTART:20251102T020000
TZOFFSETFROM:-0800
TZOFFSETTO:-0900
RDATE:20261101T020000
END:STANDARD
BEGIN:DAYLIGHT
TZNAME:AKDT
DTSTART:20250309T020000
TZOFFSETFROM:-0900
TZOFFSETTO:-0800
RDATE:20260308T020000
RDATE:20270314T020000
END:DAYLIGHT
END:VTIMEZONE
BEGIN:VEVENT
UID:3523c852-d702-479b-980a-b52b20f6e407
DTSTAMP:20260420T101415Z
DESCRIPTION:A fabulous night will be had by all! This event runs 6-9pm (con
 trary to the poster)
DTSTART;TZID=America/Anchorage:20251221T180000
DTEND;TZID=America/Anchorage:20251221T210000
LOCATION:Creek Street Cabaret
SUMMARY:Open Mic!
END:VEVENT
END:VCALENDAR
