BEGIN:VCALENDAR
VERSION:2.0
PRODID:-//www.ketchikanarts.org//NONSGML kigkonsult.se iCalcreator 2.30.10/
 /
CALSCALE:GREGORIAN
METHOD:PUBLISH
UID:f839d89b-e8cc-4b60-abb9-6222484c3aa3
X-WR-CALDESC:
X-WR-RELCALID:dade7651cc61226dc8f7a0f73a5c072c
X-WR-TIMEZONE:America/Anchorage
BEGIN:VTIMEZONE
TZID:America/Anchorage
BEGIN:STANDARD
TZNAME:AKST
DTSTART:20251102T020000
TZOFFSETFROM:-0800
TZOFFSETTO:-0900
RDATE:20261101T020000
END:STANDARD
BEGIN:DAYLIGHT
TZNAME:AKDT
DTSTART:20250309T020000
TZOFFSETFROM:-0900
TZOFFSETTO:-0800
RDATE:20260308T020000
RDATE:20270314T020000
END:DAYLIGHT
END:VTIMEZONE
BEGIN:VEVENT
UID:3df7d8f3-2382-40bd-8c8d-189b248b25d8
DTSTAMP:20260420T101740Z
DESCRIPTION:
DTSTART;TZID=America/Anchorage:20251218T173000
DTEND;TZID=America/Anchorage:20251218T193000
LOCATION:Cape Fox Lodge
SUMMARY:Sip & Paint with Spencer Hasty
END:VEVENT
END:VCALENDAR
