BEGIN:VCALENDAR
VERSION:2.0
PRODID:-//www.ketchikanarts.org//NONSGML kigkonsult.se iCalcreator 2.30.10/
 /
CALSCALE:GREGORIAN
METHOD:PUBLISH
UID:4f3ee806-7ef2-42a1-b2f4-fafa49239f8a
X-WR-CALDESC:
X-WR-RELCALID:7477334c47fa2572404221cc9c110fa3
X-WR-TIMEZONE:America/Anchorage
BEGIN:VTIMEZONE
TZID:America/Anchorage
BEGIN:STANDARD
TZNAME:AKST
DTSTART:20251102T020000
TZOFFSETFROM:-0800
TZOFFSETTO:-0900
RDATE:20261101T020000
END:STANDARD
BEGIN:DAYLIGHT
TZNAME:AKDT
DTSTART:20250309T020000
TZOFFSETFROM:-0900
TZOFFSETTO:-0800
RDATE:20260308T020000
RDATE:20270314T020000
END:DAYLIGHT
END:VTIMEZONE
BEGIN:VEVENT
UID:ae7600d5-4d41-4e18-9f64-fd39f2610967
DTSTAMP:20260420T103702Z
DESCRIPTION:
DTSTART;TZID=America/Anchorage:20251217T190000
DTEND;TZID=America/Anchorage:20251217T203000
LOCATION:Kayhi Auditorium
SUMMARY:Schoenbar Middle School Winter Muisc Concert
END:VEVENT
END:VCALENDAR
