BEGIN:VCALENDAR
VERSION:2.0
PRODID:-//www.ketchikanarts.org//NONSGML kigkonsult.se iCalcreator 2.30.10/
 /
CALSCALE:GREGORIAN
METHOD:PUBLISH
UID:3800f0d2-61ec-44da-8ee1-4950da78d08d
X-WR-CALDESC:Doors open at 4:00pm\n\nAttendance is free - but space is limi
 ted. Reserve your seat at the link below.
X-WR-RELCALID:1e4de583fef5c6196a32bd5b461433cb
X-WR-TIMEZONE:America/Anchorage
BEGIN:VTIMEZONE
TZID:America/Anchorage
BEGIN:STANDARD
TZNAME:AKST
DTSTART:20251102T020000
TZOFFSETFROM:-0800
TZOFFSETTO:-0900
RDATE:20261101T020000
END:STANDARD
BEGIN:DAYLIGHT
TZNAME:AKDT
DTSTART:20250309T020000
TZOFFSETFROM:-0900
TZOFFSETTO:-0800
RDATE:20260308T020000
RDATE:20270314T020000
END:DAYLIGHT
END:VTIMEZONE
BEGIN:VEVENT
UID:6586e7c2-7021-43f8-a51b-329b84b3f394
DTSTAMP:20260420T101342Z
DESCRIPTION:Doors open at 4:00pm\n\nAttendance is free - but space is limit
 ed. Reserve your seat at the link below.
DTSTART;TZID=America/Anchorage:20251214T163000
DTEND;TZID=America/Anchorage:20251214T180000
LOCATION:Clover Pass Community Church - 105 N Pt Higgins Rd
SUMMARY:Singing Christmas Tree performance
END:VEVENT
END:VCALENDAR
