BEGIN:VCALENDAR
VERSION:2.0
PRODID:-//www.ketchikanarts.org//NONSGML kigkonsult.se iCalcreator 2.30.10/
 /
CALSCALE:GREGORIAN
METHOD:PUBLISH
UID:0a322e19-eeb6-4a6b-bd51-3fef48db9b67
X-WR-CALDESC:Please check back for exact performance time!
X-WR-RELCALID:1a9d98c19e3de81323bc24ddf2c9482b
X-WR-TIMEZONE:America/Anchorage
BEGIN:VTIMEZONE
TZID:America/Anchorage
BEGIN:STANDARD
TZNAME:AKST
DTSTART:20251102T020000
TZOFFSETFROM:-0800
TZOFFSETTO:-0900
RDATE:20261101T020000
END:STANDARD
BEGIN:DAYLIGHT
TZNAME:AKDT
DTSTART:20250309T020000
TZOFFSETFROM:-0900
TZOFFSETTO:-0800
RDATE:20260308T020000
RDATE:20270314T020000
END:DAYLIGHT
END:VTIMEZONE
BEGIN:VEVENT
UID:8bcfb993-ac81-4818-86fc-2e6b12bbd700
DTSTAMP:20260420T102834Z
DESCRIPTION:Please check back for exact performance time!
DTSTART;TZID=America/Anchorage:20251214T160000
DTEND;TZID=America/Anchorage:20251214T173000
LOCATION:Kayhi Auditorium
SUMMARY:Kapamilya Ketchikan Holiday Performance!
END:VEVENT
END:VCALENDAR
