BEGIN:VCALENDAR
VERSION:2.0
PRODID:-//www.ketchikanarts.org//NONSGML kigkonsult.se iCalcreator 2.30.10/
 /
CALSCALE:GREGORIAN
METHOD:PUBLISH
UID:3ea3dcdd-34ac-48db-8658-3853db830dff
X-WR-CALDESC:Doors open at 4:00pm\n\nAttendance if FREE but space is limite
 d. Reserve your seat at the link below.
X-WR-RELCALID:b220981917442fe27b374a6cdef4d2da
X-WR-TIMEZONE:America/Anchorage
BEGIN:VTIMEZONE
TZID:America/Anchorage
BEGIN:STANDARD
TZNAME:AKST
DTSTART:20251102T020000
TZOFFSETFROM:-0800
TZOFFSETTO:-0900
RDATE:20261101T020000
END:STANDARD
BEGIN:DAYLIGHT
TZNAME:AKDT
DTSTART:20250309T020000
TZOFFSETFROM:-0900
TZOFFSETTO:-0800
RDATE:20260308T020000
RDATE:20270314T020000
END:DAYLIGHT
END:VTIMEZONE
BEGIN:VEVENT
UID:f80fe63f-90c1-4757-8a19-2e228a3399f3
DTSTAMP:20260420T101342Z
DESCRIPTION:Doors open at 4:00pm\n\nAttendance if FREE but space is limited
 . Reserve your seat at the link below.
DTSTART;TZID=America/Anchorage:20251213T163000
DTEND;TZID=America/Anchorage:20251213T180000
LOCATION:Clover Pass Community Church - 105 N Pt Higgins Rd
SUMMARY:Singing Christmas Tree performance
END:VEVENT
END:VCALENDAR
