BEGIN:VCALENDAR
VERSION:2.0
PRODID:-//www.ketchikanarts.org//NONSGML kigkonsult.se iCalcreator 2.30.10/
 /
CALSCALE:GREGORIAN
METHOD:PUBLISH
UID:d4fd64a5-4a7a-42cd-b4e5-b27339797a2b
X-WR-CALDESC:
X-WR-RELCALID:b9fa7a9af625e26061d0b90107e72531
X-WR-TIMEZONE:America/Anchorage
BEGIN:VTIMEZONE
TZID:America/Anchorage
BEGIN:STANDARD
TZNAME:AKST
DTSTART:20251102T020000
TZOFFSETFROM:-0800
TZOFFSETTO:-0900
RDATE:20261101T020000
END:STANDARD
BEGIN:DAYLIGHT
TZNAME:AKDT
DTSTART:20250309T020000
TZOFFSETFROM:-0900
TZOFFSETTO:-0800
RDATE:20260308T020000
RDATE:20270314T020000
END:DAYLIGHT
END:VTIMEZONE
BEGIN:VEVENT
UID:83b13911-c34b-4eb3-b037-6573b62d76d8
DTSTAMP:20260420T140253Z
DESCRIPTION:
DTSTART;TZID=America/Anchorage:20251213T100000
DTEND;TZID=America/Anchorage:20251213T150000
LOCATION:Craig City Gym
SUMMARY:City of Craig Holiday Market
END:VEVENT
END:VCALENDAR
