BEGIN:VCALENDAR
VERSION:2.0
PRODID:-//www.ketchikanarts.org//NONSGML kigkonsult.se iCalcreator 2.30.10/
 /
CALSCALE:GREGORIAN
METHOD:PUBLISH
UID:f5639fd7-491b-45b6-997a-179131e52936
X-WR-CALDESC:
X-WR-RELCALID:cac5c189dd83d72f00bc2ef04347dbb1
X-WR-TIMEZONE:America/Anchorage
BEGIN:VTIMEZONE
TZID:America/Anchorage
BEGIN:STANDARD
TZNAME:AKST
DTSTART:20251102T020000
TZOFFSETFROM:-0800
TZOFFSETTO:-0900
RDATE:20261101T020000
END:STANDARD
BEGIN:DAYLIGHT
TZNAME:AKDT
DTSTART:20250309T020000
TZOFFSETFROM:-0900
TZOFFSETTO:-0800
RDATE:20260308T020000
RDATE:20270314T020000
END:DAYLIGHT
END:VTIMEZONE
BEGIN:VEVENT
UID:47a2f3de-e9a5-43da-b35e-fc22c8925757
DTSTAMP:20260420T102943Z
DESCRIPTION:
DTSTART;TZID=America/Anchorage:20251213T100000
DTEND;TZID=America/Anchorage:20251213T150000
LOCATION:Houghtaling Elementary School
SUMMARY:3rd Annual Houghtaling Holiday Craft Market
END:VEVENT
END:VCALENDAR
