BEGIN:VCALENDAR
VERSION:2.0
PRODID:-//www.ketchikanarts.org//NONSGML kigkonsult.se iCalcreator 2.30.10/
 /
CALSCALE:GREGORIAN
METHOD:PUBLISH
UID:e0bd1945-9d76-4687-800f-6b2f69c26b40
X-WR-CALDESC:The Winter Performances of the Ketchikan Community Chorus are 
 always wonderful - and you get to sing along with them on holiday songs!
X-WR-RELCALID:702c4fd6a9ed039028b4d4b5722ab5c6
X-WR-TIMEZONE:America/Anchorage
BEGIN:VTIMEZONE
TZID:America/Anchorage
BEGIN:STANDARD
TZNAME:AKST
DTSTART:20251102T020000
TZOFFSETFROM:-0800
TZOFFSETTO:-0900
RDATE:20261101T020000
END:STANDARD
BEGIN:DAYLIGHT
TZNAME:AKDT
DTSTART:20250309T020000
TZOFFSETFROM:-0900
TZOFFSETTO:-0800
RDATE:20260308T020000
RDATE:20270314T020000
END:DAYLIGHT
END:VTIMEZONE
BEGIN:VEVENT
UID:6d407e60-df6e-462a-a8d1-3dbe99806635
DTSTAMP:20260420T103610Z
DESCRIPTION:The Winter Performances of the Ketchikan Community Chorus are a
 lways wonderful - and you get to sing along with them on holiday songs!
DTSTART;TZID=America/Anchorage:20251210T190000
DTEND;TZID=America/Anchorage:20251210T203000
LOCATION:First United Methodist Church
SUMMARY:'United in Song' Ketchikan Community Chorus Performance
END:VEVENT
END:VCALENDAR
