BEGIN:VCALENDAR
VERSION:2.0
PRODID:-//www.ketchikanarts.org//NONSGML kigkonsult.se iCalcreator 2.30.10/
 /
CALSCALE:GREGORIAN
METHOD:PUBLISH
UID:3126375a-55c2-4960-9c45-8a5ded71196d
X-WR-CALDESC:
X-WR-RELCALID:0d78c96b94e99e24dfd909ba6da23a52
X-WR-TIMEZONE:America/Anchorage
BEGIN:VTIMEZONE
TZID:America/Anchorage
BEGIN:STANDARD
TZNAME:AKST
DTSTART:20251102T020000
TZOFFSETFROM:-0800
TZOFFSETTO:-0900
RDATE:20261101T020000
END:STANDARD
BEGIN:DAYLIGHT
TZNAME:AKDT
DTSTART:20250309T020000
TZOFFSETFROM:-0900
TZOFFSETTO:-0800
RDATE:20260308T020000
RDATE:20270314T020000
END:DAYLIGHT
END:VTIMEZONE
BEGIN:VEVENT
UID:5065fd9c-ef7d-41db-8ab4-0d4a4d9139bf
DTSTAMP:20260420T101600Z
DESCRIPTION:
DTSTART;TZID=America/Anchorage:20251206T190000
DTEND;TZID=America/Anchorage:20251206T203000
LOCATION:Kayhi Auditorium
SUMMARY:'Nutcracker' - Ketchikan Theatre Ballet
END:VEVENT
END:VCALENDAR
