BEGIN:VCALENDAR
VERSION:2.0
PRODID:-//www.ketchikanarts.org//NONSGML kigkonsult.se iCalcreator 2.30.10/
 /
CALSCALE:GREGORIAN
METHOD:PUBLISH
UID:35124251-e9b8-4d88-b833-af6a699c448f
X-WR-CALDESC:The Youth in Art Exhibit at the Main Street Gallery features w
 orks by young artists in all mediums from the Ketchikan area!!
X-WR-RELCALID:ab4b158011cf5d7756905e79c3cb3e32
X-WR-TIMEZONE:America/Anchorage
BEGIN:VTIMEZONE
TZID:America/Anchorage
BEGIN:STANDARD
TZNAME:AKST
DTSTART:20251102T020000
TZOFFSETFROM:-0800
TZOFFSETTO:-0900
RDATE:20261101T020000
END:STANDARD
BEGIN:DAYLIGHT
TZNAME:AKDT
DTSTART:20250309T020000
TZOFFSETFROM:-0900
TZOFFSETTO:-0800
RDATE:20260308T020000
RDATE:20270314T020000
END:DAYLIGHT
END:VTIMEZONE
BEGIN:VEVENT
UID:97e66860-881f-41d9-8339-e7f87f53e22e
DTSTAMP:20260420T103610Z
DESCRIPTION:The Youth in Art Exhibit at the Main Street Gallery features wo
 rks by young artists in all mediums from the Ketchikan area!!
DTSTART;TZID=America/Anchorage:20251205T170000
DTEND;TZID=America/Anchorage:20251205T200000
LOCATION:Main Street Gallery - 330 Main Street
SUMMARY:Main Street Gallery Opening - Youth in Art
END:VEVENT
END:VCALENDAR
