BEGIN:VCALENDAR
VERSION:2.0
PRODID:-//www.ketchikanarts.org//NONSGML kigkonsult.se iCalcreator 2.30.10/
 /
CALSCALE:GREGORIAN
METHOD:PUBLISH
UID:9b4b7ea0-ad80-42e1-bbb0-3587e0c3b5b3
X-WR-CALDESC:Head downtown for the Winter Art Walk!!! Local arts businesses
  feature local artists for the evening! Find just the right holiday gift a
 nd support local businesses and community. PLUS eat glorious food\, meet f
 riends\, and be inspired by ART!!!
X-WR-RELCALID:542f7869fefee04e2e62e082c98c79e8
X-WR-TIMEZONE:America/Anchorage
BEGIN:VTIMEZONE
TZID:America/Anchorage
BEGIN:STANDARD
TZNAME:AKST
DTSTART:20251102T020000
TZOFFSETFROM:-0800
TZOFFSETTO:-0900
RDATE:20261101T020000
END:STANDARD
BEGIN:DAYLIGHT
TZNAME:AKDT
DTSTART:20250309T020000
TZOFFSETFROM:-0900
TZOFFSETTO:-0800
RDATE:20260308T020000
RDATE:20270314T020000
END:DAYLIGHT
END:VTIMEZONE
BEGIN:VEVENT
UID:7e0c22a2-7aec-4986-b2df-1dad831b361d
DTSTAMP:20260422T104746Z
DESCRIPTION:Head downtown for the Winter Art Walk!!! Local arts businesses 
 feature local artists for the evening! Find just the right holiday gift an
 d support local businesses and community. PLUS eat glorious food\, meet fr
 iends\, and be inspired by ART!!!
DTSTART;TZID=America/Anchorage:20251205T170000
DTEND;TZID=America/Anchorage:20251205T200000
LOCATION:Downtown Ketchikan!
SUMMARY:Winter Art Walk
END:VEVENT
END:VCALENDAR
