BEGIN:VCALENDAR
VERSION:2.0
PRODID:-//www.ketchikanarts.org//NONSGML kigkonsult.se iCalcreator 2.30.10/
 /
CALSCALE:GREGORIAN
METHOD:PUBLISH
UID:0b9efb3c-0069-4819-83cc-d1abc34b1be0
X-WR-CALDESC:
X-WR-RELCALID:6d3bd2337101dee8f611946ea4535ba7
X-WR-TIMEZONE:America/Anchorage
BEGIN:VTIMEZONE
TZID:America/Anchorage
BEGIN:STANDARD
TZNAME:AKST
DTSTART:20251102T020000
TZOFFSETFROM:-0800
TZOFFSETTO:-0900
RDATE:20261101T020000
END:STANDARD
BEGIN:DAYLIGHT
TZNAME:AKDT
DTSTART:20250309T020000
TZOFFSETFROM:-0900
TZOFFSETTO:-0800
RDATE:20260308T020000
RDATE:20270314T020000
END:DAYLIGHT
END:VTIMEZONE
BEGIN:VEVENT
UID:4bcfe06d-9d61-410d-9c00-bc4dee6e7aa2
DTSTAMP:20260420T101538Z
DESCRIPTION:
DTSTART;TZID=America/Anchorage:20251205T190000
DTEND;TZID=America/Anchorage:20251205T203000
LOCATION:Kayhi Auditorium
SUMMARY:'Nutcracker' - Ketchikan Theatre Ballet
END:VEVENT
END:VCALENDAR
