BEGIN:VCALENDAR
VERSION:2.0
PRODID:-//www.ketchikanarts.org//NONSGML kigkonsult.se iCalcreator 2.30.10/
 /
CALSCALE:GREGORIAN
METHOD:PUBLISH
UID:c1dc1ce1-51df-4b58-8c6c-68c8b4d46349
X-WR-CALDESC:
X-WR-RELCALID:cc132c6d75b1b3bf2f8af2596bf77423
X-WR-TIMEZONE:America/Anchorage
BEGIN:VTIMEZONE
TZID:America/Anchorage
BEGIN:STANDARD
TZNAME:AKST
DTSTART:20251102T020000
TZOFFSETFROM:-0800
TZOFFSETTO:-0900
RDATE:20261101T020000
END:STANDARD
BEGIN:DAYLIGHT
TZNAME:AKDT
DTSTART:20250309T020000
TZOFFSETFROM:-0900
TZOFFSETTO:-0800
RDATE:20260308T020000
RDATE:20270314T020000
END:DAYLIGHT
END:VTIMEZONE
BEGIN:VEVENT
UID:b5bfa265-8345-40cc-94b0-2266e03193e6
DTSTAMP:20260420T101415Z
DESCRIPTION:
DTSTART;TZID=America/Anchorage:20251201T090000
DTEND;TZID=America/Anchorage:20251201T170000
LOCATION:Main Street Gallery - 330 Main Street
SUMMARY:KAAHC Closed
END:VEVENT
END:VCALENDAR
