BEGIN:VCALENDAR
VERSION:2.0
PRODID:-//www.ketchikanarts.org//NONSGML kigkonsult.se iCalcreator 2.30.10/
 /
CALSCALE:GREGORIAN
METHOD:PUBLISH
UID:8b79bdc4-2f4c-42d4-ae99-41d4fdc3ede5
X-WR-CALDESC:
X-WR-RELCALID:1de7e56bd648cc44b1c20adabe43bde3
X-WR-TIMEZONE:America/Anchorage
BEGIN:VTIMEZONE
TZID:America/Anchorage
BEGIN:STANDARD
TZNAME:AKST
DTSTART:20251102T020000
TZOFFSETFROM:-0800
TZOFFSETTO:-0900
RDATE:20261101T020000
END:STANDARD
BEGIN:DAYLIGHT
TZNAME:AKDT
DTSTART:20250309T020000
TZOFFSETFROM:-0900
TZOFFSETTO:-0800
RDATE:20260308T020000
RDATE:20270314T020000
END:DAYLIGHT
END:VTIMEZONE
BEGIN:VEVENT
UID:3881fc7f-6bc2-48d8-bdbb-0c8faad884ee
DTSTAMP:20260422T122643Z
DESCRIPTION:
DTSTART;TZID=America/Anchorage:20251129T170000
DTEND;TZID=America/Anchorage:20251129T173000
LOCATION:Star Gallery - #5 Creek Street
SUMMARY:Learn the Foundations of Tango at BOOMbal Dance Hall
END:VEVENT
END:VCALENDAR
