BEGIN:VCALENDAR
VERSION:2.0
PRODID:-//www.ketchikanarts.org//NONSGML kigkonsult.se iCalcreator 2.30.10/
 /
CALSCALE:GREGORIAN
METHOD:PUBLISH
UID:fc96b033-8567-485e-9751-5d9d30e55261
X-WR-CALDESC:
X-WR-RELCALID:10befbe9ea3657ae754b95b00925693f
X-WR-TIMEZONE:America/Anchorage
BEGIN:VTIMEZONE
TZID:America/Anchorage
BEGIN:STANDARD
TZNAME:AKST
DTSTART:20251102T020000
TZOFFSETFROM:-0800
TZOFFSETTO:-0900
RDATE:20261101T020000
END:STANDARD
BEGIN:DAYLIGHT
TZNAME:AKDT
DTSTART:20250309T020000
TZOFFSETFROM:-0900
TZOFFSETTO:-0800
RDATE:20260308T020000
RDATE:20270314T020000
END:DAYLIGHT
END:VTIMEZONE
BEGIN:VEVENT
UID:2aa900cc-aa24-4446-841c-7e2eb3da0f71
DTSTAMP:20260422T124202Z
DESCRIPTION:
DTSTART;TZID=America/Anchorage:20251127T200000
DTEND;TZID=America/Anchorage:20251127T230000
LOCATION:Totem Bar
SUMMARY:Open Mic at the Totem Bar
END:VEVENT
END:VCALENDAR
