BEGIN:VCALENDAR
VERSION:2.0
PRODID:-//www.ketchikanarts.org//NONSGML kigkonsult.se iCalcreator 2.30.10/
 /
CALSCALE:GREGORIAN
METHOD:PUBLISH
UID:2c701073-6319-440f-a4dd-e154e73fbcc6
X-WR-CALDESC:
X-WR-RELCALID:eac462cf5df0624548c98560139bbf28
X-WR-TIMEZONE:America/Anchorage
BEGIN:VTIMEZONE
TZID:America/Anchorage
BEGIN:STANDARD
TZNAME:AKST
DTSTART:20251102T020000
TZOFFSETFROM:-0800
TZOFFSETTO:-0900
RDATE:20261101T020000
END:STANDARD
BEGIN:DAYLIGHT
TZNAME:AKDT
DTSTART:20250309T020000
TZOFFSETFROM:-0900
TZOFFSETTO:-0800
RDATE:20260308T020000
RDATE:20270314T020000
END:DAYLIGHT
END:VTIMEZONE
BEGIN:VEVENT
UID:434149df-d9e8-4e74-88f5-d69d344a1cdb
DTSTAMP:20260422T124530Z
DESCRIPTION:
DTSTART;TZID=America/Anchorage:20251127T170000
DTEND;TZID=America/Anchorage:20251127T180000
LOCATION:Alaska Legends
SUMMARY:Queer Social Hour - Ketchikan Pride Alliance
END:VEVENT
END:VCALENDAR
