BEGIN:VCALENDAR
VERSION:2.0
PRODID:-//www.ketchikanarts.org//NONSGML kigkonsult.se iCalcreator 2.30.10/
 /
CALSCALE:GREGORIAN
METHOD:PUBLISH
UID:0b4ec688-20a4-4aaf-810a-275abda7fe1f
X-WR-CALDESC:
X-WR-RELCALID:3cb51ae07639081a463223888b636b61
X-WR-TIMEZONE:America/Anchorage
BEGIN:VTIMEZONE
TZID:America/Anchorage
BEGIN:STANDARD
TZNAME:AKST
DTSTART:20251102T020000
TZOFFSETFROM:-0800
TZOFFSETTO:-0900
RDATE:20261101T020000
END:STANDARD
BEGIN:DAYLIGHT
TZNAME:AKDT
DTSTART:20250309T020000
TZOFFSETFROM:-0900
TZOFFSETTO:-0800
RDATE:20260308T020000
RDATE:20270314T020000
END:DAYLIGHT
END:VTIMEZONE
BEGIN:VEVENT
UID:964a7bb5-ec9d-409f-9794-4a9281e68323
DTSTAMP:20260422T122638Z
DESCRIPTION:
DTSTART;TZID=America/Anchorage:20251122T193000
DTEND;TZID=America/Anchorage:20251122T213000
LOCATION:Kayhi Auditorium
SUMMARY:First City Players presents 'RENT'!!!
END:VEVENT
END:VCALENDAR
