BEGIN:VCALENDAR
VERSION:2.0
PRODID:-//www.ketchikanarts.org//NONSGML kigkonsult.se iCalcreator 2.30.10/
 /
CALSCALE:GREGORIAN
METHOD:PUBLISH
UID:1aec4297-c6cb-4962-a207-db7c7ad43bf6
X-WR-CALDESC:Rehearsals are every Tuesday from 6:30 to 8:30pm\n\nHeld at th
 e First United Methodist Church - 400 Main Street\n\nThe Winter Concerts w
 ill be:\n\nSunday\, December 7th\, 2025\, 3pm\nWednesday\, December 10th\,
  2025\, 7pm\nFirst United Methodist Church
X-WR-RELCALID:460e19e667af22af9375ec7b12aaece2
X-WR-TIMEZONE:America/Anchorage
BEGIN:VTIMEZONE
TZID:America/Anchorage
BEGIN:STANDARD
TZNAME:AKST
DTSTART:20251102T020000
TZOFFSETFROM:-0800
TZOFFSETTO:-0900
RDATE:20261101T020000
END:STANDARD
BEGIN:DAYLIGHT
TZNAME:AKDT
DTSTART:20250309T020000
TZOFFSETFROM:-0900
TZOFFSETTO:-0800
RDATE:20260308T020000
RDATE:20270314T020000
END:DAYLIGHT
END:VTIMEZONE
BEGIN:VEVENT
UID:1bc4c306-29fe-4671-986c-9c5775793022
DTSTAMP:20260422T124450Z
DESCRIPTION:Rehearsals are every Tuesday from 6:30 to 8:30pm\n\nHeld at the
  First United Methodist Church - 400 Main Street\n\nThe Winter Concerts wi
 ll be:\n\nSunday\, December 7th\, 2025\, 3pm\nWednesday\, December 10th\, 
 2025\, 7pm\nFirst United Methodist Church
DTSTART;TZID=America/Anchorage:20251118T183000
DTEND;TZID=America/Anchorage:20251118T203000
LOCATION:First United Methodist Church - 400 Main Street
SUMMARY:Ketchikan Community Chorus Rehearsal
END:VEVENT
END:VCALENDAR
