BEGIN:VCALENDAR
VERSION:2.0
PRODID:-//www.ketchikanarts.org//NONSGML kigkonsult.se iCalcreator 2.30.10/
 /
CALSCALE:GREGORIAN
METHOD:PUBLISH
UID:97137359-ea78-4249-bd96-5303e73daf26
X-WR-CALDESC:
X-WR-RELCALID:2e5071de1aed1de3f6f30f72745c5ba1
X-WR-TIMEZONE:America/Anchorage
BEGIN:VTIMEZONE
TZID:America/Anchorage
BEGIN:STANDARD
TZNAME:AKST
DTSTART:20251102T020000
TZOFFSETFROM:-0800
TZOFFSETTO:-0900
RDATE:20261101T020000
END:STANDARD
BEGIN:DAYLIGHT
TZNAME:AKDT
DTSTART:20250309T020000
TZOFFSETFROM:-0900
TZOFFSETTO:-0800
RDATE:20260308T020000
RDATE:20270314T020000
END:DAYLIGHT
END:VTIMEZONE
BEGIN:VEVENT
UID:9457eb53-cbff-47a6-9d22-9e44827bb429
DTSTAMP:20260422T124111Z
DESCRIPTION:
DTSTART;TZID=America/Anchorage:20251116T143000
DTEND;TZID=America/Anchorage:20251116T163000
LOCATION:Kayhi Auditorium
SUMMARY:First City Players presents 'RENT'!!!
END:VEVENT
END:VCALENDAR
