BEGIN:VCALENDAR
VERSION:2.0
PRODID:-//www.ketchikanarts.org//NONSGML kigkonsult.se iCalcreator 2.30.10/
 /
CALSCALE:GREGORIAN
METHOD:PUBLISH
UID:afa9bb6b-d281-4c23-ac24-6d1ed4671b48
X-WR-CALDESC:Limited supplies and materials available while supplies last. 
 Donation of supplies very welcome.
X-WR-RELCALID:e0f4cf55fd457973f4fd09ca8b5a1535
X-WR-TIMEZONE:America/Anchorage
BEGIN:VTIMEZONE
TZID:America/Anchorage
BEGIN:STANDARD
TZNAME:AKST
DTSTART:20251102T020000
TZOFFSETFROM:-0800
TZOFFSETTO:-0900
RDATE:20261101T020000
END:STANDARD
BEGIN:DAYLIGHT
TZNAME:AKDT
DTSTART:20250309T020000
TZOFFSETFROM:-0900
TZOFFSETTO:-0800
RDATE:20260308T020000
RDATE:20270314T020000
END:DAYLIGHT
END:VTIMEZONE
BEGIN:VEVENT
UID:c0aa9a9d-8561-45e7-9beb-5b13261db606
DTSTAMP:20260422T122155Z
DESCRIPTION:Limited supplies and materials available while supplies last. D
 onation of supplies very welcome.
DTSTART;TZID=America/Anchorage:20251115T100000
DTEND;TZID=America/Anchorage:20251115T170000
LOCATION:Richard Shields Sr. Building - 156/160 Dog Salmon Road
SUMMARY:Open Workshop - Cape Fox Cultural Foundation
END:VEVENT
END:VCALENDAR
