BEGIN:VCALENDAR
VERSION:2.0
PRODID:-//www.ketchikanarts.org//NONSGML kigkonsult.se iCalcreator 2.30.10/
 /
CALSCALE:GREGORIAN
METHOD:PUBLISH
UID:ecbd1578-6df7-4a02-aaaa-8b71831aaa49
X-WR-CALDESC:
X-WR-RELCALID:375ece2930c1926612e540304c7f7edf
X-WR-TIMEZONE:America/Anchorage
BEGIN:VTIMEZONE
TZID:America/Anchorage
BEGIN:STANDARD
TZNAME:AKST
DTSTART:20251102T020000
TZOFFSETFROM:-0800
TZOFFSETTO:-0900
RDATE:20261101T020000
END:STANDARD
BEGIN:DAYLIGHT
TZNAME:AKDT
DTSTART:20250309T020000
TZOFFSETFROM:-0900
TZOFFSETTO:-0800
RDATE:20260308T020000
RDATE:20270314T020000
END:DAYLIGHT
END:VTIMEZONE
BEGIN:VEVENT
UID:b5bbc806-6e59-46bf-884f-e34e77887b0f
DTSTAMP:20260422T123724Z
DESCRIPTION:
DTSTART;TZID=America/Anchorage:20251115T170000
DTEND;TZID=America/Anchorage:20251115T173000
LOCATION:Star Gallery - #5 Creek Street
SUMMARY:Learn the Foundations of Tango at BOOMbal Dance Hall
END:VEVENT
END:VCALENDAR
