BEGIN:VCALENDAR
VERSION:2.0
PRODID:-//www.ketchikanarts.org//NONSGML kigkonsult.se iCalcreator 2.30.10/
 /
CALSCALE:GREGORIAN
METHOD:PUBLISH
UID:44287cd8-2b29-44fa-a23b-3df09e427790
X-WR-CALDESC:
X-WR-RELCALID:6607fa7ed11946782c4476167220117e
X-WR-TIMEZONE:America/Anchorage
BEGIN:VTIMEZONE
TZID:America/Anchorage
BEGIN:STANDARD
TZNAME:AKST
DTSTART:20251102T020000
TZOFFSETFROM:-0800
TZOFFSETTO:-0900
RDATE:20261101T020000
END:STANDARD
BEGIN:DAYLIGHT
TZNAME:AKDT
DTSTART:20250309T020000
TZOFFSETFROM:-0900
TZOFFSETTO:-0800
RDATE:20260308T020000
RDATE:20270314T020000
END:DAYLIGHT
END:VTIMEZONE
BEGIN:VEVENT
UID:b426ab1d-49fb-4d5b-be00-7c4a0b618b7b
DTSTAMP:20260422T123354Z
DESCRIPTION:
DTSTART;TZID=America/Anchorage:20251115T193000
DTEND;TZID=America/Anchorage:20251115T213000
LOCATION:Kayhi Auditorium
SUMMARY:First City Players presents 'RENT'!!!
END:VEVENT
END:VCALENDAR
