BEGIN:VCALENDAR
VERSION:2.0
PRODID:-//www.ketchikanarts.org//NONSGML kigkonsult.se iCalcreator 2.30.10/
 /
CALSCALE:GREGORIAN
METHOD:PUBLISH
UID:54d100c4-1f20-4063-8896-cbf9987578bb
X-WR-CALDESC:
X-WR-RELCALID:ba1fac745262f8d639951d6afe0258f5
X-WR-TIMEZONE:America/Anchorage
BEGIN:VTIMEZONE
TZID:America/Anchorage
BEGIN:STANDARD
TZNAME:AKST
DTSTART:20251102T020000
TZOFFSETFROM:-0800
TZOFFSETTO:-0900
RDATE:20261101T020000
END:STANDARD
BEGIN:DAYLIGHT
TZNAME:AKDT
DTSTART:20250309T020000
TZOFFSETFROM:-0900
TZOFFSETTO:-0800
RDATE:20260308T020000
RDATE:20270314T020000
END:DAYLIGHT
END:VTIMEZONE
BEGIN:VEVENT
UID:82a5f894-a26b-4441-95a1-105b5a5019d2
DTSTAMP:20260422T122338Z
DESCRIPTION:
DTSTART;TZID=America/Anchorage:20251115T150000
DTEND;TZID=America/Anchorage:20251115T160000
LOCATION:Star Gallery
SUMMARY:Artist Talk - Barbara Morgan
END:VEVENT
END:VCALENDAR
