BEGIN:VCALENDAR
VERSION:2.0
PRODID:-//www.ketchikanarts.org//NONSGML kigkonsult.se iCalcreator 2.30.10/
 /
CALSCALE:GREGORIAN
METHOD:PUBLISH
UID:9014cfbd-563d-4aeb-b88e-38a508705faa
X-WR-CALDESC:
X-WR-RELCALID:ab5231fdae7a90a2c0135c2afdd9b5ef
X-WR-TIMEZONE:America/Anchorage
BEGIN:VTIMEZONE
TZID:America/Anchorage
BEGIN:STANDARD
TZNAME:AKST
DTSTART:20251102T020000
TZOFFSETFROM:-0800
TZOFFSETTO:-0900
RDATE:20261101T020000
END:STANDARD
BEGIN:DAYLIGHT
TZNAME:AKDT
DTSTART:20250309T020000
TZOFFSETFROM:-0900
TZOFFSETTO:-0800
RDATE:20260308T020000
RDATE:20270314T020000
END:DAYLIGHT
END:VTIMEZONE
BEGIN:VEVENT
UID:1d909478-208f-4c2c-99cf-af613381efed
DTSTAMP:20260422T122241Z
DESCRIPTION:
DTSTART;TZID=America/Anchorage:20251115T235800
DTEND;TZID=America/Anchorage:20251115T235900
LOCATION:https://www.ketchikanarts.org/programs-events/local-arts-and-cultu
 re/sam-pitcher-memorial-scholarship-fund/sam-pitcher-memorial-scholarship-
 fund.html
SUMMARY:Applications DUE - Sam Pitcher Memorial Scholarship
END:VEVENT
END:VCALENDAR
