BEGIN:VCALENDAR
VERSION:2.0
PRODID:-//www.ketchikanarts.org//NONSGML kigkonsult.se iCalcreator 2.30.10/
 /
CALSCALE:GREGORIAN
METHOD:PUBLISH
UID:dc97b4c6-3ff7-449e-ae0d-6177162a78b0
X-WR-CALDESC:KCCB rehearses for the December 21st\, 2025\, 3pm performance 
 in the Kayhi Auditorium!!
X-WR-RELCALID:e4e6f2a515e549e6fef30ce4f59d50a9
X-WR-TIMEZONE:America/Anchorage
BEGIN:VTIMEZONE
TZID:America/Anchorage
BEGIN:STANDARD
TZNAME:AKST
DTSTART:20251102T020000
TZOFFSETFROM:-0800
TZOFFSETTO:-0900
RDATE:20261101T020000
END:STANDARD
BEGIN:DAYLIGHT
TZNAME:AKDT
DTSTART:20250309T020000
TZOFFSETFROM:-0900
TZOFFSETTO:-0800
RDATE:20260308T020000
RDATE:20270314T020000
END:DAYLIGHT
END:VTIMEZONE
BEGIN:VEVENT
UID:167e16e9-c500-47d0-840f-1373e1d54a2d
DTSTAMP:20260422T124618Z
DESCRIPTION:KCCB rehearses for the December 21st\, 2025\, 3pm performance i
 n the Kayhi Auditorium!!
DTSTART;TZID=America/Anchorage:20251110T190000
DTEND;TZID=America/Anchorage:20251110T203000
LOCATION:First Assembly Church of God
SUMMARY:Ketchikan Community Concert Band Rehearsal
END:VEVENT
END:VCALENDAR
