BEGIN:VCALENDAR
VERSION:2.0
PRODID:-//www.ketchikanarts.org//NONSGML kigkonsult.se iCalcreator 2.30.10/
 /
CALSCALE:GREGORIAN
METHOD:PUBLISH
UID:9116131d-6907-471d-ae11-b57a96a9c66b
X-WR-CALDESC:Limited supplies and materials available while supplies last. 
 Donation of supplies very welcome.
X-WR-RELCALID:d01e18b47daa0e168cbfbac50aae9a03
X-WR-TIMEZONE:America/Anchorage
BEGIN:VTIMEZONE
TZID:America/Anchorage
BEGIN:STANDARD
TZNAME:AKST
DTSTART:20251102T020000
TZOFFSETFROM:-0800
TZOFFSETTO:-0900
RDATE:20261101T020000
END:STANDARD
BEGIN:DAYLIGHT
TZNAME:AKDT
DTSTART:20250309T020000
TZOFFSETFROM:-0900
TZOFFSETTO:-0800
RDATE:20260308T020000
RDATE:20270314T020000
END:DAYLIGHT
END:VTIMEZONE
BEGIN:VEVENT
UID:a439fed1-0a09-4b1e-a1e7-0f182687a98b
DTSTAMP:20260422T122157Z
DESCRIPTION:Limited supplies and materials available while supplies last. D
 onation of supplies very welcome.
DTSTART;TZID=America/Anchorage:20251109T100000
DTEND;TZID=America/Anchorage:20251109T170000
LOCATION:Richard Shields Sr. Building - 156/160 Dog Salmon Road
SUMMARY:Open Workshop - Cape Fox Cultural Foundation
END:VEVENT
END:VCALENDAR
