BEGIN:VCALENDAR
VERSION:2.0
PRODID:-//www.ketchikanarts.org//NONSGML kigkonsult.se iCalcreator 2.30.10/
 /
CALSCALE:GREGORIAN
METHOD:PUBLISH
UID:5b1810ef-e669-4fd2-a467-eece56a3cec2
X-WR-CALDESC:Limited supplies and materials available while supplies last. 
 Donation of supplies very welcome.
X-WR-RELCALID:38cf527d83590f628bccd4b69995e4c7
X-WR-TIMEZONE:America/Anchorage
BEGIN:VTIMEZONE
TZID:America/Anchorage
BEGIN:STANDARD
TZNAME:AKST
DTSTART:20251102T020000
TZOFFSETFROM:-0800
TZOFFSETTO:-0900
RDATE:20261101T020000
END:STANDARD
BEGIN:DAYLIGHT
TZNAME:AKDT
DTSTART:20250309T020000
TZOFFSETFROM:-0900
TZOFFSETTO:-0800
RDATE:20260308T020000
RDATE:20270314T020000
END:DAYLIGHT
END:VTIMEZONE
BEGIN:VEVENT
UID:78b3b3ba-c6fd-4c44-a26a-69b5a3d1f49c
DTSTAMP:20260422T122108Z
DESCRIPTION:Limited supplies and materials available while supplies last. D
 onation of supplies very welcome.
DTSTART;TZID=America/Anchorage:20251108T100000
DTEND;TZID=America/Anchorage:20251108T170000
LOCATION:Richard Shields Sr. Building - 156/160 Dog Salmon Road
SUMMARY:Open Workshop - Cape Fox Cultural Foundation
END:VEVENT
END:VCALENDAR
