BEGIN:VCALENDAR
VERSION:2.0
PRODID:-//www.ketchikanarts.org//NONSGML kigkonsult.se iCalcreator 2.30.10/
 /
CALSCALE:GREGORIAN
METHOD:PUBLISH
UID:280bd379-7ab0-46b8-84c4-5d4749c502db
X-WR-CALDESC:Join the artist residents of [INSERT ART]\, Beaux Fletcher\, S
 avannah LeCornu\, Kelly Reamer\, Shannon Slagle and Mads Wolf for the Open
 ing of 'Reconstruction'!!!\n\n\n\n[INSERT ART] is a program of the Ketchik
 an Area Arts and Humanities Council
X-WR-RELCALID:33192c732ef235c533c488df39c15da1
X-WR-TIMEZONE:America/Anchorage
BEGIN:VTIMEZONE
TZID:America/Anchorage
BEGIN:STANDARD
TZNAME:AKST
DTSTART:20251102T020000
TZOFFSETFROM:-0800
TZOFFSETTO:-0900
RDATE:20261101T020000
END:STANDARD
BEGIN:DAYLIGHT
TZNAME:AKDT
DTSTART:20250309T020000
TZOFFSETFROM:-0900
TZOFFSETTO:-0800
RDATE:20260308T020000
RDATE:20270314T020000
END:DAYLIGHT
END:VTIMEZONE
BEGIN:VEVENT
UID:0764d863-0def-4053-a213-4ae186b49527
DTSTAMP:20260422T122155Z
DESCRIPTION:Join the artist residents of [INSERT ART]\, Beaux Fletcher\, Sa
 vannah LeCornu\, Kelly Reamer\, Shannon Slagle and Mads Wolf for the Openi
 ng of 'Reconstruction'!!!\n\n\n\n[INSERT ART] is a program of the Ketchika
 n Area Arts and Humanities Council
DTSTART;TZID=America/Anchorage:20251107T183000
DTEND;TZID=America/Anchorage:20251107T210000
LOCATION:125 Main Street
SUMMARY:[INSERT ART] Opening Reception
END:VEVENT
END:VCALENDAR
