BEGIN:VCALENDAR
VERSION:2.0
PRODID:-//www.ketchikanarts.org//NONSGML kigkonsult.se iCalcreator 2.30.10/
 /
CALSCALE:GREGORIAN
METHOD:PUBLISH
UID:81321b2e-a11c-4126-9ba9-dbef54f5da13
X-WR-CALDESC:Rehearsals are every Tuesday from 6:30 to 8:30pm\n\nHeld at th
 e First United Methodist Church - 400 Main Street\n\nThe Winter Concerts w
 ill be:\n\nSunday\, December 7th\, 2025\, 3pm\nWednesday\, December 10th\,
  2025\, 7pm\nFirst United Methodist Church
X-WR-RELCALID:b801d29e99704a6c37237733e5a9f511
X-WR-TIMEZONE:America/Anchorage
BEGIN:VTIMEZONE
TZID:America/Anchorage
BEGIN:STANDARD
TZNAME:AKST
DTSTART:20251102T020000
TZOFFSETFROM:-0800
TZOFFSETTO:-0900
RDATE:20261101T020000
END:STANDARD
BEGIN:DAYLIGHT
TZNAME:AKDT
DTSTART:20250309T020000
TZOFFSETFROM:-0900
TZOFFSETTO:-0800
RDATE:20260308T020000
RDATE:20270314T020000
END:DAYLIGHT
END:VTIMEZONE
BEGIN:VEVENT
UID:807790d6-971f-4ba2-a4ed-861968a62a08
DTSTAMP:20260422T124416Z
DESCRIPTION:Rehearsals are every Tuesday from 6:30 to 8:30pm\n\nHeld at the
  First United Methodist Church - 400 Main Street\n\nThe Winter Concerts wi
 ll be:\n\nSunday\, December 7th\, 2025\, 3pm\nWednesday\, December 10th\, 
 2025\, 7pm\nFirst United Methodist Church
DTSTART;TZID=America/Anchorage:20251104T183000
DTEND;TZID=America/Anchorage:20251104T203000
LOCATION:First United Methodist Church - 400 Main Street
SUMMARY:Ketchikan Community Chorus Rehearsal
END:VEVENT
END:VCALENDAR
