BEGIN:VCALENDAR
VERSION:2.0
PRODID:-//www.ketchikanarts.org//NONSGML kigkonsult.se iCalcreator 2.30.10/
 /
CALSCALE:GREGORIAN
METHOD:PUBLISH
UID:ea20e819-13f2-4bd4-bd54-69eaba6e3065
X-WR-CALDESC:
X-WR-RELCALID:66879976e32f4bb0e7b89570c1086e2d
X-WR-TIMEZONE:America/Anchorage
BEGIN:VTIMEZONE
TZID:America/Anchorage
BEGIN:STANDARD
TZNAME:AKST
DTSTART:20241103T020000
TZOFFSETFROM:-0800
TZOFFSETTO:-0900
RDATE:20251102T020000
RDATE:20261101T020000
END:STANDARD
BEGIN:DAYLIGHT
TZNAME:AKDT
DTSTART:20250309T020000
TZOFFSETFROM:-0900
TZOFFSETTO:-0800
RDATE:20260308T020000
RDATE:20270314T020000
END:DAYLIGHT
END:VTIMEZONE
BEGIN:VEVENT
UID:04620384-0f6d-4ff0-8490-74247bf1dd4b
DTSTAMP:20260422T140704Z
DESCRIPTION:
DTSTART;TZID=America/Anchorage:20251031T235800
DTEND;TZID=America/Anchorage:20251031T235900
LOCATION:Ketchikan Visitors Bureau
SUMMARY:Call to Artists - Ketchikan Visitors Bureau
END:VEVENT
END:VCALENDAR
