BEGIN:VCALENDAR
VERSION:2.0
PRODID:-//www.ketchikanarts.org//NONSGML kigkonsult.se iCalcreator 2.30.10/
 /
CALSCALE:GREGORIAN
METHOD:PUBLISH
UID:fcc3bcc4-7218-47e6-9705-3e95c1e19955
X-WR-CALDESC:
X-WR-RELCALID:ab0b777485343f56720a5384e8ebacbb
X-WR-TIMEZONE:America/Anchorage
BEGIN:VTIMEZONE
TZID:America/Anchorage
BEGIN:STANDARD
TZNAME:AKST
DTSTART:20241103T020000
TZOFFSETFROM:-0800
TZOFFSETTO:-0900
RDATE:20251102T020000
RDATE:20261101T020000
END:STANDARD
BEGIN:DAYLIGHT
TZNAME:AKDT
DTSTART:20250309T020000
TZOFFSETFROM:-0900
TZOFFSETTO:-0800
RDATE:20260308T020000
RDATE:20270314T020000
END:DAYLIGHT
END:VTIMEZONE
BEGIN:VEVENT
UID:270922e3-3a65-412d-9670-390164e26ca4
DTSTAMP:20260422T140805Z
DESCRIPTION:
DTSTART;TZID=America/Anchorage:20251030T170000
DTEND;TZID=America/Anchorage:20251030T180000
LOCATION:Alaska Legends
SUMMARY:Queer Social Hour - Ketchikan Pride Alliance
END:VEVENT
END:VCALENDAR
