BEGIN:VCALENDAR
VERSION:2.0
PRODID:-//www.ketchikanarts.org//NONSGML kigkonsult.se iCalcreator 2.30.10/
 /
CALSCALE:GREGORIAN
METHOD:PUBLISH
UID:93259895-2e5d-42a6-a589-400b38c0ae9d
X-WR-CALDESC:KCCB rehearses for the December 21st\, 2025\, 3pm performance 
 in the Kayhi Auditorium!!
X-WR-RELCALID:a66a5baec3ed8b3a0abf6524f39c0f0a
X-WR-TIMEZONE:America/Anchorage
BEGIN:VTIMEZONE
TZID:America/Anchorage
BEGIN:STANDARD
TZNAME:AKST
DTSTART:20241103T020000
TZOFFSETFROM:-0800
TZOFFSETTO:-0900
RDATE:20251102T020000
RDATE:20261101T020000
END:STANDARD
BEGIN:DAYLIGHT
TZNAME:AKDT
DTSTART:20250309T020000
TZOFFSETFROM:-0900
TZOFFSETTO:-0800
RDATE:20260308T020000
RDATE:20270314T020000
END:DAYLIGHT
END:VTIMEZONE
BEGIN:VEVENT
UID:c9cef224-eb67-4e11-975a-fc5a0b7ae460
DTSTAMP:20260422T140955Z
DESCRIPTION:KCCB rehearses for the December 21st\, 2025\, 3pm performance i
 n the Kayhi Auditorium!!
DTSTART;TZID=America/Anchorage:20251027T190000
DTEND;TZID=America/Anchorage:20251027T203000
LOCATION:First Assembly Church of God
SUMMARY:Ketchikan Community Concert Band Rehearsal
END:VEVENT
END:VCALENDAR
