BEGIN:VCALENDAR
VERSION:2.0
PRODID:-//www.ketchikanarts.org//NONSGML kigkonsult.se iCalcreator 2.30.10/
 /
CALSCALE:GREGORIAN
METHOD:PUBLISH
UID:eefa79b6-b69f-4d3d-b67f-998f1b149dc3
X-WR-CALDESC:A fabulous night will be had by all!
X-WR-RELCALID:3cd8a4b3334dec1c2d8e00704556f1bb
X-WR-TIMEZONE:America/Anchorage
BEGIN:VTIMEZONE
TZID:America/Anchorage
BEGIN:STANDARD
TZNAME:AKST
DTSTART:20241103T020000
TZOFFSETFROM:-0800
TZOFFSETTO:-0900
RDATE:20251102T020000
RDATE:20261101T020000
END:STANDARD
BEGIN:DAYLIGHT
TZNAME:AKDT
DTSTART:20250309T020000
TZOFFSETFROM:-0900
TZOFFSETTO:-0800
RDATE:20260308T020000
RDATE:20270314T020000
END:DAYLIGHT
END:VTIMEZONE
BEGIN:VEVENT
UID:e498b565-4627-4045-bdbe-f553ae002de1
DTSTAMP:20260422T140228Z
DESCRIPTION:A fabulous night will be had by all!
DTSTART;TZID=America/Anchorage:20251026T170000
DTEND;TZID=America/Anchorage:20251026T200000
LOCATION:Creek Street Cabaret
SUMMARY:Open Mic!
END:VEVENT
END:VCALENDAR
