BEGIN:VCALENDAR
VERSION:2.0
PRODID:-//www.ketchikanarts.org//NONSGML kigkonsult.se iCalcreator 2.30.10/
 /
CALSCALE:GREGORIAN
METHOD:PUBLISH
UID:0ff91b2b-220a-44b1-be17-d8fee9c4ef1f
X-WR-CALDESC:KCCB rehearses for the December 21st\, 2025\, 3pm performance 
 in the Kayhi Auditorium!!
X-WR-RELCALID:27f9bcdbbd81ca4213b7a8a50e501e18
X-WR-TIMEZONE:America/Anchorage
BEGIN:VTIMEZONE
TZID:America/Anchorage
BEGIN:STANDARD
TZNAME:AKST
DTSTART:20241103T020000
TZOFFSETFROM:-0800
TZOFFSETTO:-0900
RDATE:20251102T020000
RDATE:20261101T020000
END:STANDARD
BEGIN:DAYLIGHT
TZNAME:AKDT
DTSTART:20250309T020000
TZOFFSETFROM:-0900
TZOFFSETTO:-0800
RDATE:20260308T020000
RDATE:20270314T020000
END:DAYLIGHT
END:VTIMEZONE
BEGIN:VEVENT
UID:4141e876-0930-4108-9f27-ed23d21ccd3b
DTSTAMP:20260422T140937Z
DESCRIPTION:KCCB rehearses for the December 21st\, 2025\, 3pm performance i
 n the Kayhi Auditorium!!
DTSTART;TZID=America/Anchorage:20251020T190000
DTEND;TZID=America/Anchorage:20251020T203000
LOCATION:First Assembly Church of God
SUMMARY:Ketchikan Community Concert Band Rehearsal
END:VEVENT
END:VCALENDAR
