BEGIN:VCALENDAR
VERSION:2.0
PRODID:-//www.ketchikanarts.org//NONSGML kigkonsult.se iCalcreator 2.30.10/
 /
CALSCALE:GREGORIAN
METHOD:PUBLISH
UID:5a47e476-9982-4b9b-aac3-08f273d2f1a5
X-WR-CALDESC:
X-WR-RELCALID:8a9923f661a970d63e3c67759f0a9dd5
X-WR-TIMEZONE:America/Anchorage
BEGIN:VTIMEZONE
TZID:America/Anchorage
BEGIN:STANDARD
TZNAME:AKST
DTSTART:20241103T020000
TZOFFSETFROM:-0800
TZOFFSETTO:-0900
RDATE:20251102T020000
RDATE:20261101T020000
END:STANDARD
BEGIN:DAYLIGHT
TZNAME:AKDT
DTSTART:20250309T020000
TZOFFSETFROM:-0900
TZOFFSETTO:-0800
RDATE:20260308T020000
RDATE:20270314T020000
END:DAYLIGHT
END:VTIMEZONE
BEGIN:VEVENT
UID:0b8537f9-813f-4dab-8684-b91a3b60ef1c
DTSTAMP:20260422T140327Z
DESCRIPTION:
DTSTART;TZID=America/Anchorage:20251018T190000
DTEND;TZID=America/Anchorage:20251018T203000
LOCATION:Saxman Tribal House
SUMMARY:The Monthly Grind!!!!
END:VEVENT
END:VCALENDAR
