BEGIN:VCALENDAR
VERSION:2.0
PRODID:-//www.ketchikanarts.org//NONSGML kigkonsult.se iCalcreator 2.30.10/
 /
CALSCALE:GREGORIAN
METHOD:PUBLISH
UID:cbfee795-6e1b-491a-82d6-f683927182ee
X-WR-CALDESC:
X-WR-RELCALID:8a9df410576f72a82d372b492c1edcd6
X-WR-TIMEZONE:America/Anchorage
BEGIN:VTIMEZONE
TZID:America/Anchorage
BEGIN:STANDARD
TZNAME:AKST
DTSTART:20241103T020000
TZOFFSETFROM:-0800
TZOFFSETTO:-0900
RDATE:20251102T020000
RDATE:20261101T020000
END:STANDARD
BEGIN:DAYLIGHT
TZNAME:AKDT
DTSTART:20250309T020000
TZOFFSETFROM:-0900
TZOFFSETTO:-0800
RDATE:20260308T020000
RDATE:20270314T020000
END:DAYLIGHT
END:VTIMEZONE
BEGIN:VEVENT
UID:8d87a340-4776-4c31-9d94-d70d90cd4307
DTSTAMP:20260422T140353Z
DESCRIPTION:
DTSTART;TZID=America/Anchorage:20251018T110000
DTEND;TZID=America/Anchorage:20251018T150000
LOCATION:Craig Gym
SUMMARY:Filipino Celebration (Craig)
END:VEVENT
END:VCALENDAR
